BEGIN:VCALENDAR
VERSION:2.0
PRODID:-//Mercer Partners Wealth Management - ECPv6.10.0//NONSGML v1.0//EN
CALSCALE:GREGORIAN
METHOD:PUBLISH
X-ORIGINAL-URL:https://www.mercerpartnerswealth.com
X-WR-CALDESC:Events for Mercer Partners Wealth Management
REFRESH-INTERVAL;VALUE=DURATION:PT1H
X-Robots-Tag:noindex
X-PUBLISHED-TTL:PT1H
BEGIN:VTIMEZONE
TZID:UTC
BEGIN:STANDARD
TZOFFSETFROM:+0000
TZOFFSETTO:+0000
TZNAME:UTC
DTSTART:20260101T000000
END:STANDARD
END:VTIMEZONE
BEGIN:VEVENT
DTSTART;TZID=UTC:20260120T110000
DTEND;TZID=UTC:20260120T120000
DTSTAMP:20260425T102122
CREATED:20251003T185755Z
LAST-MODIFIED:20260225T171716Z
UID:3308-1768906800-1768910400@www.mercerpartnerswealth.com
SUMMARY:10 Themes Shaping the Year Ahead - 2026 Market Outlook
DESCRIPTION:Join us for an interactive market outlook discussion featuring John Tousley\, CFA\, Managing Director at Goldman Sachs Asset Management and Global Head of the Market Strategy team within Strategic Advisory Solutions. \nJohn brings more than two decades of experience analyzing global capital markets\, macroeconomic trends\, and portfolio implementation. In his role at Goldman Sachs Asset Management\, he leads global market strategy research\, helping advisors and institutions cut through the noise and focus on what truly matters for portfolios and clients. \nThis session will look beyond headlines to unpack where we’ve been\, where we’re headed\, and what it all means for investors as we move through the current market landscape. \nDuring this discussion\, we’ll cover: \n\n2025: The Year Behind — key themes\, market drivers\, and lessons learned\n2026: The Year Ahead — expectations for growth\, inflation\, policy\, and markets\nThe Real Economy vs. Today’s Headlines — separating signal from noise\nOpen Panel Q&A — bring your questions and join the conversation\n\nConnect with us for a thoughtful\, engaging discussion designed to provide clarity\, context\, and perspective in an increasingly complex market environment. \nRSVP today and connect with us for this insightful new year update! \nDATE AND TIME: \nTuesday\, January 20th \n11:00 am Pacific Time \n2:00 pm Eastern Time \nLOCATION: \nZoom Webinar Event \nHOSTED BY: \nMercer Partners Wealth Management \n\n\n\n\n\n\n\n\n\n\n\n\nThe advisors of Mercer Partners Wealth Management are registered representatives with\, and securities offered through LPL Financial\, member FINRA/SIPC. Investment advice offered through Mariner Independent Advisor Network\, a registered investment advisor. Mercer Partners Wealth Management and Mariner Independent Advisor Network are separate entities from LPL Financial. \nJohn Tousley is not affiliated with Mercer Partners Wealth Management\, Mariner Independent Advisor Network\, or LPL Financial.
URL:https://www.mercerpartnerswealth.com/event/10-themes-shaping-the-year-ahead-2026-market-outlook/
LOCATION:Webinar
ATTACH;FMTTYPE=image/png:https://www.mercerpartnerswealth.com/wp-content/uploads/2025/10/YouTube-Cover-Thumbnail-Mercer-scaled.png
END:VEVENT
END:VCALENDAR